BEGIN:VCALENDAR
VERSION:2.0
PRODID:-//Faulkner County Republicans - ECPv6.15.20//NONSGML v1.0//EN
CALSCALE:GREGORIAN
METHOD:PUBLISH
X-WR-CALNAME:Faulkner County Republicans
X-ORIGINAL-URL:https://faulknercountyrepublicans.com
X-WR-CALDESC:Events for Faulkner County Republicans
REFRESH-INTERVAL;VALUE=DURATION:PT1H
X-Robots-Tag:noindex
X-PUBLISHED-TTL:PT1H
BEGIN:VTIMEZONE
TZID:America/Chicago
BEGIN:DAYLIGHT
TZOFFSETFROM:-0600
TZOFFSETTO:-0500
TZNAME:CDT
DTSTART:20230312T080000
END:DAYLIGHT
BEGIN:STANDARD
TZOFFSETFROM:-0500
TZOFFSETTO:-0600
TZNAME:CST
DTSTART:20231105T070000
END:STANDARD
BEGIN:DAYLIGHT
TZOFFSETFROM:-0600
TZOFFSETTO:-0500
TZNAME:CDT
DTSTART:20240310T080000
END:DAYLIGHT
BEGIN:STANDARD
TZOFFSETFROM:-0500
TZOFFSETTO:-0600
TZNAME:CST
DTSTART:20241103T070000
END:STANDARD
BEGIN:DAYLIGHT
TZOFFSETFROM:-0600
TZOFFSETTO:-0500
TZNAME:CDT
DTSTART:20250309T080000
END:DAYLIGHT
BEGIN:STANDARD
TZOFFSETFROM:-0500
TZOFFSETTO:-0600
TZNAME:CST
DTSTART:20251102T070000
END:STANDARD
END:VTIMEZONE
BEGIN:VEVENT
DTSTART;TZID=America/Chicago:20241204T120000
DTEND;TZID=America/Chicago:20241204T133000
DTSTAMP:20260424T105831
CREATED:20240723T175059Z
LAST-MODIFIED:20240723T175059Z
UID:6096-1733313600-1733319000@faulknercountyrepublicans.com
SUMMARY:Faulkner County Republican Women: December
DESCRIPTION:Faulkner County Republican Women: December\nThe Republican Women meet monthly to hear pertinent speakers and conduct business surrounding their various community and fundraising projects. (You don’t need to buy lunch or make lunch reservations.) \nRepublican men are welcome to join as non-voting members! All Republicans are welcome at meetings. Contact President Charlotte Leher at 501 697 8083 for more information and to verify details.
URL:https://faulknercountyrepublicans.com/event/faulkner-county-republican-women-december/
LOCATION:Mike’s Place\, 808 Front St.\, Conway\, AR\, 72034\, United States
CATEGORIES:Republican Women
ATTACH;FMTTYPE=image/jpeg:https://faulknercountyrepublicans.com/wp-content/uploads/2024/04/gop-women.jpg
END:VEVENT
BEGIN:VEVENT
DTSTART;TZID=America/Chicago:20241125T180000
DTEND;TZID=America/Chicago:20241125T200000
DTSTAMP:20260424T105831
CREATED:20240723T174251Z
LAST-MODIFIED:20240723T174251Z
UID:6086-1732557600-1732564800@faulknercountyrepublicans.com
SUMMARY:Faulkner County Republicans: November
DESCRIPTION:Faulkner County Republicans: November\nJoin like-minded conservative voters every month at our regular meetings. Come at 6pm to eat and socialize. Meeting begins at 6:30 pm with our program and business afterward. Contact Chair Jason Bollinger at 501 581 1605 for more information and to verify details.
URL:https://faulknercountyrepublicans.com/event/faulkner-county-republicans-november/
LOCATION:Vincent’s BBQ\, 2850 Prince Street\, Conway\, AR\, 72034\, United States
CATEGORIES:County Meetings
ATTACH;FMTTYPE=image/jpeg:https://faulknercountyrepublicans.com/wp-content/uploads/2024/07/FCRC2.jpg
END:VEVENT
BEGIN:VEVENT
DTSTART;TZID=America/Chicago:20241114T180000
DTEND;TZID=America/Chicago:20241114T180000
DTSTAMP:20260424T105831
CREATED:20240723T173132Z
LAST-MODIFIED:20240723T174443Z
UID:6079-1731607200-1731607200@faulknercountyrepublicans.com
SUMMARY:Faulkner Co. GOP Executive Committee: November
DESCRIPTION:Faulkner Co. GOP Executive Committee – November\nThe Executive Committee of the Faulkner County Republican Committee typically meets on the second Thursday of each month at 6 pm at the Chinatown restaurant in Conway. All members are welcome to attend.
URL:https://faulknercountyrepublicans.com/event/faulkner-co-gop-executive-committee-november/
LOCATION:Chinatown – Conway\, 201 Highway 65 N\, Conway\, AR\, 72032
CATEGORIES:County Meetings
ATTACH;FMTTYPE=image/jpeg:https://faulknercountyrepublicans.com/wp-content/uploads/2023/04/republican-party-1.jpg
END:VEVENT
BEGIN:VEVENT
DTSTART;TZID=America/Chicago:20241106T120000
DTEND;TZID=America/Chicago:20241106T133000
DTSTAMP:20260424T105831
CREATED:20240723T174855Z
LAST-MODIFIED:20240723T174855Z
UID:6094-1730894400-1730899800@faulknercountyrepublicans.com
SUMMARY:Faulkner County Republican Women: November
DESCRIPTION:Faulkner County Republican Women: November\nThe Republican Women meet monthly to hear pertinent speakers and conduct business surrounding their various community and fundraising projects. (You don’t need to buy lunch or make lunch reservations.) \nRepublican men are welcome to join as non-voting members! All Republicans are welcome at meetings. Contact President Charlotte Leher at 501 697 8083 for more information and to verify details.
URL:https://faulknercountyrepublicans.com/event/faulkner-county-republican-women-november/
LOCATION:Mike’s Place\, 808 Front St.\, Conway\, AR\, 72034\, United States
CATEGORIES:Republican Women
ATTACH;FMTTYPE=image/jpeg:https://faulknercountyrepublicans.com/wp-content/uploads/2024/04/gop-women.jpg
END:VEVENT
BEGIN:VEVENT
DTSTART;VALUE=DATE:20241105
DTEND;VALUE=DATE:20241106
DTSTAMP:20260424T105831
CREATED:20240723T185038Z
LAST-MODIFIED:20240723T185038Z
UID:6126-1730764800-1730851199@faulknercountyrepublicans.com
SUMMARY:2024 GENERAL ELECTION
DESCRIPTION:TODAY is the 2024 General Election.  Visit VoteFaulkner.com for details on the results as we re-elect REPUBLICANS up and down the ballot\, from President Donald J. Trump all the way through to our Faulkner County JPs and Constables.
URL:https://faulknercountyrepublicans.com/event/2024-general-election/
ATTACH;FMTTYPE=image/png:https://faulknercountyrepublicans.com/wp-content/uploads/2024/07/trump-vance.png
END:VEVENT
BEGIN:VEVENT
DTSTART;TZID=America/Chicago:20241028T180000
DTEND;TZID=America/Chicago:20241028T200000
DTSTAMP:20260424T105831
CREATED:20240723T174112Z
LAST-MODIFIED:20240723T174112Z
UID:6081-1730138400-1730145600@faulknercountyrepublicans.com
SUMMARY:Faulkner County Republicans: October
DESCRIPTION:Faulkner County Republicans: October\nJoin like-minded conservative voters every month at our regular meetings. Come at 6pm to eat and socialize. Meeting begins at 6:30 pm with our program and business afterward. Contact Chair Jason Bollinger at 501 581 1605 for more information and to verify details.
URL:https://faulknercountyrepublicans.com/event/faulkner-county-republicans-october/
LOCATION:Vincent’s BBQ\, 2850 Prince Street\, Conway\, AR\, 72034\, United States
CATEGORIES:County Meetings
ATTACH;FMTTYPE=image/jpeg:https://faulknercountyrepublicans.com/wp-content/uploads/2024/07/FCRC1.jpg
END:VEVENT
BEGIN:VEVENT
DTSTART;VALUE=DATE:20241026
DTEND;VALUE=DATE:20241028
DTSTAMP:20260424T105831
CREATED:20240723T184538Z
LAST-MODIFIED:20240723T184538Z
UID:6124-1729900800-1730073599@faulknercountyrepublicans.com
SUMMARY:Gun Show: Conway
DESCRIPTION:Gun Show: Conway\nJOIN us at our booth to campaign for our candidates and recruit members at the G&S Gun Show on Saturday and Sunday. We have volunteer slots all day both days. Contact Chair Jason Bollinger at 501 581 1605 for more information.
URL:https://faulknercountyrepublicans.com/event/gun-show-conway-2/
LOCATION:Conway Expo Center\, 2505 E Oak St\, Conway\, AR\, 72032\, United States
ATTACH;FMTTYPE=image/jpeg:https://faulknercountyrepublicans.com/wp-content/uploads/2024/07/gun-show.jpg
END:VEVENT
BEGIN:VEVENT
DTSTART;VALUE=DATE:20241021
DTEND;VALUE=DATE:20241105
DTSTAMP:20260424T105831
CREATED:20240723T184410Z
LAST-MODIFIED:20240723T184410Z
UID:6121-1729468800-1730764799@faulknercountyrepublicans.com
SUMMARY:EARLY VOTING BEGINS
DESCRIPTION:Early Voting Begins Today\nEarly voting begins today and continues until Tuesday\, November 5\, for the 2024 General Election. Visit VoteFaulkner.com for details on locations\, dates\, and results.
URL:https://faulknercountyrepublicans.com/event/early-voting-begins/
ATTACH;FMTTYPE=image/jpeg:https://faulknercountyrepublicans.com/wp-content/uploads/2022/11/vote-box-960x540-1-1.jpg
END:VEVENT
BEGIN:VEVENT
DTSTART;TZID=America/Chicago:20241010T180000
DTEND;TZID=America/Chicago:20241010T200000
DTSTAMP:20260424T105831
CREATED:20240723T172950Z
LAST-MODIFIED:20240723T174428Z
UID:6077-1728583200-1728590400@faulknercountyrepublicans.com
SUMMARY:Faulkner Co. GOP Executive Committee: October
DESCRIPTION:Faulkner Co. GOP Executive Committee – October\nThe Executive Committee of the Faulkner County Republican Committee typically meets on the second Thursday of each month at 6 pm at the Chinatown restaurant in Conway. All members are welcome to attend.
URL:https://faulknercountyrepublicans.com/event/faulkner-co-gop-executive-committee-october/
LOCATION:Chinatown – Conway\, 201 Highway 65 N\, Conway\, AR\, 72032
CATEGORIES:County Meetings
ATTACH;FMTTYPE=image/jpeg:https://faulknercountyrepublicans.com/wp-content/uploads/2023/04/republican-party-1.jpg
END:VEVENT
BEGIN:VEVENT
DTSTART;TZID=America/Chicago:20241007T180000
DTEND;TZID=America/Chicago:20241007T200000
DTSTAMP:20260424T105831
CREATED:20240723T184056Z
LAST-MODIFIED:20240723T184056Z
UID:6118-1728324000-1728331200@faulknercountyrepublicans.com
SUMMARY:2nd Annual Freedom Feast
DESCRIPTION:Save the Date!\nOur 2nd Annual Freedom Feast fundraiser is set for Monday\, October 7\, 2024. Contact Chair Jason Bollinger at 501 581 1605 for more information and to become a sponsor!
URL:https://faulknercountyrepublicans.com/event/2nd-annual-freedom-feast/
ATTACH;FMTTYPE=image/jpeg:https://faulknercountyrepublicans.com/wp-content/uploads/2024/07/freedom-feast.jpg
END:VEVENT
BEGIN:VEVENT
DTSTART;TZID=America/Chicago:20240926T180000
DTEND;TZID=America/Chicago:20240926T200000
DTSTAMP:20260424T105831
CREATED:20240709T142508Z
LAST-MODIFIED:20240709T143417Z
UID:6037-1727373600-1727380800@faulknercountyrepublicans.com
SUMMARY:White County Republicans: September
DESCRIPTION:White County Republicans: September\n  \nThe White County Republican Committee\, a sister organization within our Congressional District 2\, meets monthly on the 4th Thursday night at the Carmichael Center in Searcy. Contact Chair Billy Kurck at 501 207 3431 for more information.
URL:https://faulknercountyrepublicans.com/event/white-county-republicans-september/
LOCATION:Carmichael Center\, 801 S Elm St\, Searcy\, AR\, 72143\, United States
CATEGORIES:County Meetings
ATTACH;FMTTYPE=image/jpeg:https://faulknercountyrepublicans.com/wp-content/uploads/2024/06/white-county.jpg
END:VEVENT
BEGIN:VEVENT
DTSTART;TZID=America/Chicago:20240924T180000
DTEND;TZID=America/Chicago:20240924T200000
DTSTAMP:20260424T105831
CREATED:20240709T141639Z
LAST-MODIFIED:20240709T141639Z
UID:6032-1727200800-1727208000@faulknercountyrepublicans.com
SUMMARY:Van Buren County Republicans: September
DESCRIPTION:Van Buren County Republicans: September\n  \nThe Van Buren County Republican Committee\, a sister organization within our Congressional District 2\, meets monthly on the 4th Tuesday night at the Choctaw VFW in Clinton. Contact Chair Scott Bramlett at 501 563 0000 for more information and to verify details.
URL:https://faulknercountyrepublicans.com/event/van-buren-county-republicans-september/
LOCATION:Choctaw VFW\, 3659 AR-95\, Clinton\, AR\, 72031\, United States
CATEGORIES:County Meetings
ATTACH;FMTTYPE=image/jpeg:https://faulknercountyrepublicans.com/wp-content/uploads/2024/06/van-buren.jpg
END:VEVENT
BEGIN:VEVENT
DTSTART;TZID=America/Chicago:20240923T180000
DTEND;TZID=America/Chicago:20240923T200000
DTSTAMP:20260424T105831
CREATED:20240709T142325Z
LAST-MODIFIED:20240709T142325Z
UID:6035-1727114400-1727121600@faulknercountyrepublicans.com
SUMMARY:Faulkner County Republicans: September
DESCRIPTION:Faulkner County Republicans: September\nJoin like-minded conservative voters every month at our regular meetings. Come at 6pm to eat and socialize. Meeting begins at 6:30 pm with our program and business afterward. Contact Chair Jason Bollinger at 501 581 1605 for more information and to verify details.
URL:https://faulknercountyrepublicans.com/event/faulkner-county-republicans-september/
LOCATION:Vincent’s BBQ\, 2850 Prince Street\, Conway\, AR\, 72034\, United States
CATEGORIES:County Meetings
ATTACH;FMTTYPE=image/jpeg:https://faulknercountyrepublicans.com/wp-content/uploads/2024/04/2023-07-24-FCRC-Mtg.jpg
END:VEVENT
BEGIN:VEVENT
DTSTART;TZID=America/Chicago:20240919T180000
DTEND;TZID=America/Chicago:20240919T200000
DTSTAMP:20260424T105831
CREATED:20240709T142740Z
LAST-MODIFIED:20240709T142740Z
UID:6039-1726768800-1726776000@faulknercountyrepublicans.com
SUMMARY:Pulaski County Republicans: September
DESCRIPTION:Pulaski County Republicans: September\n  \nThe Pulaski County Republican Committee is one of our robust sister organizations within Congressional District 2.  Meeting at the RPA Headquarters in Little Rock\, they begin with a speaker followed by the business portion of the meeting. Contact Chair Lorri Justice at 501 650 6641 for more information.
URL:https://faulknercountyrepublicans.com/event/pulaski-county-republicans-september/
LOCATION:RPA Headquarters\, Little Rock\, 1201 W 6th St\, Little Rock\, AR\, 72201\, United States
CATEGORIES:County Meetings
ATTACH;FMTTYPE=image/jpeg:https://faulknercountyrepublicans.com/wp-content/uploads/2024/04/2023-07-20_Pul-County-GOP.jpg
END:VEVENT
BEGIN:VEVENT
DTSTART;VALUE=DATE:20240917
DTEND;VALUE=DATE:20240922
DTSTAMP:20260424T105831
CREATED:20240723T183151Z
LAST-MODIFIED:20240723T183151Z
UID:6116-1726531200-1726963199@faulknercountyrepublicans.com
SUMMARY:Faulkner County Fair
DESCRIPTION:Faulkner County Fair\nJOIN us at our booth to campaign for our candidates and recruit members at the Faulkner County Fair. We have volunteer slots for weekdays and the weekend\, toos. Contact Chair Jason Bollinger at 501 581 1605 for more information.
URL:https://faulknercountyrepublicans.com/event/faulkner-county-fair/
LOCATION:Conway Expo Center\, 2505 E Oak St\, Conway\, AR\, 72032\, United States
ATTACH;FMTTYPE=image/jpeg:https://faulknercountyrepublicans.com/wp-content/uploads/2022/09/2022-County-Fair-2-1-1.jpg
END:VEVENT
BEGIN:VEVENT
DTSTART;TZID=America/Chicago:20240912T180000
DTEND;TZID=America/Chicago:20240912T200000
DTSTAMP:20260424T105831
CREATED:20240709T143537Z
LAST-MODIFIED:20240709T143537Z
UID:6045-1726164000-1726171200@faulknercountyrepublicans.com
SUMMARY:Conway County Republicans: September
DESCRIPTION:Conway County Republicans: September\n  \nThe Conway County Republican Committee\, one of our Congressional District 2 sister organizations\, meets monthly at the Waste Water Building in Morrilton. Contact Chair Jonathan Trafford at 501 208 3667 for more information.
URL:https://faulknercountyrepublicans.com/event/conway-county-republicans-september/
LOCATION:Waste Water Building\, 215 N Chestnut St\, Morrilton\, AR\, 72110\, United States
CATEGORIES:County Meetings
ATTACH;FMTTYPE=image/jpeg:https://faulknercountyrepublicans.com/wp-content/uploads/2024/06/conway-county.jpg
END:VEVENT
BEGIN:VEVENT
DTSTART;TZID=America/Chicago:20240912T180000
DTEND;TZID=America/Chicago:20240912T200000
DTSTAMP:20260424T105831
CREATED:20240709T143046Z
LAST-MODIFIED:20240723T174419Z
UID:6043-1726164000-1726171200@faulknercountyrepublicans.com
SUMMARY:Faulkner Co. GOP Executive Committee: September
DESCRIPTION:Faulkner Co. GOP Executive Committee – September\nThe Executive Committee of the Faulkner County Republican Committee typically meets on the second Thursday of each month at 6 pm at the Chinatown restaurant in Conway. All members are welcome to attend.
URL:https://faulknercountyrepublicans.com/event/faulkner-co-gop-executive-committee-september/
LOCATION:Chinatown – Conway\, 201 Highway 65 N\, Conway\, AR\, 72032
CATEGORIES:County Meetings
ATTACH;FMTTYPE=image/jpeg:https://faulknercountyrepublicans.com/wp-content/uploads/2023/04/republican-party-1.jpg
END:VEVENT
BEGIN:VEVENT
DTSTART;TZID=America/Chicago:20240912T180000
DTEND;TZID=America/Chicago:20240912T200000
DTSTAMP:20260424T105831
CREATED:20240709T142909Z
LAST-MODIFIED:20240709T142909Z
UID:6041-1726164000-1726171200@faulknercountyrepublicans.com
SUMMARY:Perry County Republicans: September
DESCRIPTION:Perry County Republicans: September\n  \nThe Perry County Republican Committee\, a sister organization within our Congressional District 2\, meets monthly on the 2nd Thursday night at the Perryville\, AR Fire Station. Contact Chair Al Drinkwater at 479 422 4826 for more information.
URL:https://faulknercountyrepublicans.com/event/perry-county-republicans-september/
LOCATION:Perryville Fire Station\, 320 W 6th St\, Perryville\, AR\, 72126\, United States
CATEGORIES:County Meetings
ATTACH;FMTTYPE=image/jpeg:https://faulknercountyrepublicans.com/wp-content/uploads/2024/06/perrycounty.jpg
END:VEVENT
BEGIN:VEVENT
DTSTART;TZID=America/Chicago:20240905T180000
DTEND;TZID=America/Chicago:20240905T200000
DTSTAMP:20260424T105831
CREATED:20240709T135437Z
LAST-MODIFIED:20240720T125618Z
UID:6029-1725559200-1725566400@faulknercountyrepublicans.com
SUMMARY:Saline County Republicans: September
DESCRIPTION:Saline County Republicans: September\nThe official Saline County Republican Committee is a robust sister group in the 2nd Congressional District. The Committee has lively meetings on the 1st Thursday monthly\, beginning with at least a couple of speakers before moving on to business matters before adjourning. Contact Chair Frank Curtis at 501 766 1111 for more information.
URL:https://faulknercountyrepublicans.com/event/saline-county-republicans-september/
LOCATION:Benton Senior Citizens’ Center\, 1800 Citizens Dr\, Benton\, AR\, 72018\, United States
CATEGORIES:County Meetings
ATTACH;FMTTYPE=image/jpeg:https://faulknercountyrepublicans.com/wp-content/uploads/2024/04/saline-county.jpg
END:VEVENT
BEGIN:VEVENT
DTSTART;TZID=America/Chicago:20240904T120000
DTEND;TZID=America/Chicago:20240904T130000
DTSTAMP:20260424T105832
CREATED:20240709T143731Z
LAST-MODIFIED:20240709T143731Z
UID:6047-1725451200-1725454800@faulknercountyrepublicans.com
SUMMARY:Faulkner County Republican Women: September
DESCRIPTION:Faulkner County Republican Women: September\nThe Republican Women meet monthly to hear pertinent speakers and conduct business surrounding their various community and fundraising projects. (You don’t need to buy lunch or make lunch reservations.) \nRepublican men are welcome to join as non-voting members! All Republicans are welcome at meetings. Contact President Charlotte Leher at 501 697 8083 for more information and to verify details.
URL:https://faulknercountyrepublicans.com/event/faulkner-county-republican-women-september/
LOCATION:Mike’s Place\, 808 Front St.\, Conway\, AR\, 72034\, United States
CATEGORIES:County Meetings
ATTACH;FMTTYPE=image/jpeg:https://faulknercountyrepublicans.com/wp-content/uploads/2024/04/430886373_747489237474884_5428356246115718287_n.jpg
END:VEVENT
BEGIN:VEVENT
DTSTART;TZID=America/Chicago:20240903T180000
DTEND;TZID=America/Chicago:20240903T200000
DTSTAMP:20260424T105832
CREATED:20240709T143938Z
LAST-MODIFIED:20240709T143938Z
UID:6049-1725386400-1725393600@faulknercountyrepublicans.com
SUMMARY:Cleburne County Republicans: September
DESCRIPTION:Cleburne County Republicans: September\n  \nThe Cleburne County Republican Committee\, a robust sister organization within Congressional District 2\, meets monthly at ASU Heber Springs in Heber Springs.
URL:https://faulknercountyrepublicans.com/event/cleburne-county-republicans-september/
LOCATION:ASU – Heber Springs\, 101 Rivercrest Dr\, Heber Springs 72543\, AR\, 72542\, United States
CATEGORIES:County Meetings
ATTACH;FMTTYPE=image/jpeg:https://faulknercountyrepublicans.com/wp-content/uploads/2024/06/cleburne.jpg
END:VEVENT
BEGIN:VEVENT
DTSTART;TZID=America/Chicago:20240827T180000
DTEND;TZID=America/Chicago:20240827T193000
DTSTAMP:20260424T105832
CREATED:20240618T172810Z
LAST-MODIFIED:20240619T163423Z
UID:5857-1724781600-1724787000@faulknercountyrepublicans.com
SUMMARY:Van Buren County Republicans: August
DESCRIPTION:Van Buren County Republicans: August\n  \nThe Van Buren County Republican Committee\, a sister organization within our Congressional District 2\, meets monthly on the 4th Tuesday night at the Choctaw VFW in Clinton. Contact Chair Scott Bramlett at 501 563 0000 for more information and to verify details.
URL:https://faulknercountyrepublicans.com/event/van-buren-county-republicans-august/
LOCATION:Choctaw VFW\, 3659 AR-95\, Clinton\, AR\, 72031\, United States
CATEGORIES:County Meetings
ATTACH;FMTTYPE=image/jpeg:https://faulknercountyrepublicans.com/wp-content/uploads/2024/06/van-buren.jpg
END:VEVENT
BEGIN:VEVENT
DTSTART;TZID=America/Chicago:20240826T200000
DTEND;TZID=America/Chicago:20240826T200000
DTSTAMP:20260424T105832
CREATED:20240606T214834Z
LAST-MODIFIED:20240619T163830Z
UID:5731-1724702400-1724702400@faulknercountyrepublicans.com
SUMMARY:Faulkner County Republicans: August
DESCRIPTION:Faulkner County Republicans: August\nJoin like-minded conservative voters every month at our regular meetings. Come at 6pm to eat and socialize. Meeting begins at 6:30 pm with our program and business afterward. Contact Chair Jason Bollinger at 501 581 1605 for more information and to verify details.
URL:https://faulknercountyrepublicans.com/event/faulkner-county-republicans-august/
LOCATION:Vincent’s BBQ\, 2850 Prince Street\, Conway\, AR\, 72034\, United States
CATEGORIES:County Meetings
ATTACH;FMTTYPE=image/jpeg:https://faulknercountyrepublicans.com/wp-content/uploads/2024/04/2023-07-24-FCRC-Mtg.jpg
END:VEVENT
BEGIN:VEVENT
DTSTART;TZID=America/Chicago:20240822T190000
DTEND;TZID=America/Chicago:20240822T203000
DTSTAMP:20260424T105832
CREATED:20240618T171133Z
LAST-MODIFIED:20240619T165336Z
UID:5855-1724353200-1724358600@faulknercountyrepublicans.com
SUMMARY:White County Republicans: August
DESCRIPTION:White County Republicans: August\n  \nThe White County Republican Committee\, a sister organization within our Congressional District 2\, meets monthly on the 4th Thursday night at the Carmichael Center in Searcy. Contact Chair Billy Kurck at 501 207 3431 for more information.
URL:https://faulknercountyrepublicans.com/event/white-county-republicans-august/
LOCATION:Carmichael Center\, 801 S Elm St\, Searcy\, AR\, 72143\, United States
CATEGORIES:County Meetings
ATTACH;FMTTYPE=image/jpeg:https://faulknercountyrepublicans.com/wp-content/uploads/2024/06/white-county.jpg
END:VEVENT
BEGIN:VEVENT
DTSTART;TZID=America/Chicago:20240817T090000
DTEND;TZID=America/Chicago:20240818T170000
DTSTAMP:20260424T105832
CREATED:20240723T182710Z
LAST-MODIFIED:20240723T182748Z
UID:6111-1723885200-1724000400@faulknercountyrepublicans.com
SUMMARY:Gun Show: Conway
DESCRIPTION:Gun Show: Conway\nJOIN us at our booth to campaign for our candidates and recruit members at the G&S Gun Show on Saturday and Sunday. We have volunteer slots all day both days. Contact Chair Jason Bollinger at 501 581 1605 for more information.
URL:https://faulknercountyrepublicans.com/event/gun-show-conway/
LOCATION:Conway Expo Center\, 2505 E Oak St\, Conway\, AR\, 72032\, United States
ATTACH;FMTTYPE=image/jpeg:https://faulknercountyrepublicans.com/wp-content/uploads/2024/07/gun-show.jpg
END:VEVENT
BEGIN:VEVENT
DTSTART;TZID=America/Chicago:20240815T180000
DTEND;TZID=America/Chicago:20240815T200000
DTSTAMP:20260424T105832
CREATED:20240606T215057Z
LAST-MODIFIED:20240619T165658Z
UID:5733-1723744800-1723752000@faulknercountyrepublicans.com
SUMMARY:Pulaski County Republicans: August
DESCRIPTION:Pulaski County Republicans: August\n  \nThe Pulaski County Republican Committee is one of our robust sister organizations within Congressional District 2.  Meeting at the RPA Headquarters in Little Rock\, they begin with a speaker followed by the business portion of the meeting.Contact Chair Lorri Justice at 501 650 6641 for more information.
URL:https://faulknercountyrepublicans.com/event/pulaski-county-republicans/
LOCATION:RPA Headquarters\, Little Rock\, 1201 W 6th St\, Little Rock\, AR\, 72201\, United States
CATEGORIES:County Meetings
ATTACH;FMTTYPE=image/jpeg:https://faulknercountyrepublicans.com/wp-content/uploads/2024/04/2023-07-20_Pul-County-GOP.jpg
END:VEVENT
BEGIN:VEVENT
DTSTART;TZID=America/Chicago:20240814T080000
DTEND;TZID=America/Chicago:20240814T110000
DTSTAMP:20260424T105832
CREATED:20240723T180939Z
LAST-MODIFIED:20240723T181337Z
UID:6104-1723622400-1723633200@faulknercountyrepublicans.com
SUMMARY:Teacher Fair: Greenbrier
DESCRIPTION:Back to School Teacher Fair: Greenbrier Schools\nJOIN with other volunteers to man a booth for the Faulkner County Republicans at the annual “back to school” Teacher Fair at Greenbrier Public Schools. Contact Charlotte Leher at 501 697 8083 or Sandra Strain at 612 382 6145 for more information and to verify or donate supplies for the teacher give-away bags we provide.
URL:https://faulknercountyrepublicans.com/event/teacher-fair-greenbrier/
ATTACH;FMTTYPE=image/jpeg:https://faulknercountyrepublicans.com/wp-content/uploads/2024/07/teacher-fair.jpg
END:VEVENT
BEGIN:VEVENT
DTSTART;TZID=America/Chicago:20240813T080000
DTEND;TZID=America/Chicago:20240813T110000
DTSTAMP:20260424T105832
CREATED:20240723T180618Z
LAST-MODIFIED:20240723T181302Z
UID:6100-1723536000-1723546800@faulknercountyrepublicans.com
SUMMARY:Teacher Fair: Conway
DESCRIPTION:Back to School Teacher Fair: Conway Schools\nJOIN with other volunteers to man a booth for the Faulkner County Republicans at the annual “back to school” Teacher Fair at Conway Public Schools. Contact Charlotte Leher at 501 697 8083 or Sandra Strain at 612 382 6145 for more information and to verify or donate supplies for the teacher give-away bags we provide.
URL:https://faulknercountyrepublicans.com/event/teacher-fair-conway/
ATTACH;FMTTYPE=image/jpeg:https://faulknercountyrepublicans.com/wp-content/uploads/2022/08/2022-Teacher-Expo-2-1.jpg
END:VEVENT
BEGIN:VEVENT
DTSTART;TZID=America/Chicago:20240812T080000
DTEND;TZID=America/Chicago:20240812T110000
DTSTAMP:20260424T105832
CREATED:20240723T175735Z
LAST-MODIFIED:20240723T181215Z
UID:6098-1723449600-1723460400@faulknercountyrepublicans.com
SUMMARY:Teacher Expo: Mayflower
DESCRIPTION:Back to School Teacher Fair: Mayflower Schools\nJOIN with other volunteers to man a booth for the Faulkner County Republicans at the annual “back to school” Teacher Fair at Mayflower Public Schools. Contact Charlotte Leher at 501 697 8083 or Sandra Strain at 612 382 6145 for more information and to verify or donate supplies for the teacher give-away bags we provide.
URL:https://faulknercountyrepublicans.com/event/teacher-expo-mayflower/
ATTACH;FMTTYPE=image/jpeg:https://faulknercountyrepublicans.com/wp-content/uploads/2024/07/school-bus.jpg
END:VEVENT
BEGIN:VEVENT
DTSTART;TZID=America/Chicago:20240808T190000
DTEND;TZID=America/Chicago:20240808T200000
DTSTAMP:20260424T105832
CREATED:20240618T165424Z
LAST-MODIFIED:20240619T173050Z
UID:5842-1723143600-1723147200@faulknercountyrepublicans.com
SUMMARY:Perry County Republicans: August
DESCRIPTION:Perry County Republicans: August\n  \nThe Perry County Republican Committee\, a sister organization within our Congressional District 2\, meets monthly on the 2nd Thursday night at the Perryville\, AR Fire Station. Contact Chair Al Drinkwater at 479 422 4826 for more information.
URL:https://faulknercountyrepublicans.com/event/perry-county-republicans-august/
LOCATION:Perryville Fire Station\, 320 W 6th St\, Perryville\, AR\, 72126\, United States
CATEGORIES:County Meetings
ATTACH;FMTTYPE=image/jpeg:https://faulknercountyrepublicans.com/wp-content/uploads/2024/06/perrycounty.jpg
END:VEVENT
END:VCALENDAR